BEGIN:VCALENDAR
VERSION:2.0
PRODID:-//Bomaderry Bowling Club (It&#039;s My Club)  - ECPv6.15.16.1//NONSGML v1.0//EN
CALSCALE:GREGORIAN
METHOD:PUBLISH
X-WR-CALNAME:Bomaderry Bowling Club (It&#039;s My Club) 
X-ORIGINAL-URL:https://www.itsmyclub.com.au
X-WR-CALDESC:Events for Bomaderry Bowling Club (It&#039;s My Club) 
REFRESH-INTERVAL;VALUE=DURATION:PT1H
X-Robots-Tag:noindex
X-PUBLISHED-TTL:PT1H
BEGIN:VTIMEZONE
TZID:UTC
BEGIN:STANDARD
TZOFFSETFROM:+0000
TZOFFSETTO:+0000
TZNAME:UTC
DTSTART:20250101T000000
END:STANDARD
END:VTIMEZONE
BEGIN:VEVENT
DTSTART;TZID=UTC:20260425T190000
DTEND;TZID=UTC:20260425T210000
DTSTAMP:20260420T132159
CREATED:20250523T015602Z
LAST-MODIFIED:20250523T015602Z
UID:10005537-1777143600-1777150800@www.itsmyclub.com.au
SUMMARY:Berry Cricket Club Raffle
DESCRIPTION:
URL:https://www.itsmyclub.com.au/event/berry-cricket-club-raffle/2026-04-25/
CATEGORIES:Berry Bowling Club
END:VEVENT
BEGIN:VEVENT
DTSTART;TZID=UTC:20260502T190000
DTEND;TZID=UTC:20260502T210000
DTSTAMP:20260420T132159
CREATED:20250523T015602Z
LAST-MODIFIED:20250523T015602Z
UID:10005538-1777748400-1777755600@www.itsmyclub.com.au
SUMMARY:Berry Cricket Club Raffle
DESCRIPTION:
URL:https://www.itsmyclub.com.au/event/berry-cricket-club-raffle/2026-05-02/
CATEGORIES:Berry Bowling Club
END:VEVENT
BEGIN:VEVENT
DTSTART;TZID=UTC:20260509T190000
DTEND;TZID=UTC:20260509T210000
DTSTAMP:20260420T132159
CREATED:20250523T015602Z
LAST-MODIFIED:20250523T015602Z
UID:10005539-1778353200-1778360400@www.itsmyclub.com.au
SUMMARY:Berry Cricket Club Raffle
DESCRIPTION:
URL:https://www.itsmyclub.com.au/event/berry-cricket-club-raffle/2026-05-09/
CATEGORIES:Berry Bowling Club
END:VEVENT
BEGIN:VEVENT
DTSTART;TZID=UTC:20260516T190000
DTEND;TZID=UTC:20260516T210000
DTSTAMP:20260420T132159
CREATED:20250523T015602Z
LAST-MODIFIED:20250523T015602Z
UID:10005540-1778958000-1778965200@www.itsmyclub.com.au
SUMMARY:Berry Cricket Club Raffle
DESCRIPTION:
URL:https://www.itsmyclub.com.au/event/berry-cricket-club-raffle/2026-05-16/
CATEGORIES:Berry Bowling Club
END:VEVENT
BEGIN:VEVENT
DTSTART;TZID=UTC:20260523T190000
DTEND;TZID=UTC:20260523T210000
DTSTAMP:20260420T132159
CREATED:20250523T015602Z
LAST-MODIFIED:20250523T015602Z
UID:10005541-1779562800-1779570000@www.itsmyclub.com.au
SUMMARY:Berry Cricket Club Raffle
DESCRIPTION:
URL:https://www.itsmyclub.com.au/event/berry-cricket-club-raffle/2026-05-23/
CATEGORIES:Berry Bowling Club
END:VEVENT
BEGIN:VEVENT
DTSTART;TZID=UTC:20260530T190000
DTEND;TZID=UTC:20260530T210000
DTSTAMP:20260420T132159
CREATED:20250523T015602Z
LAST-MODIFIED:20250523T015602Z
UID:10005542-1780167600-1780174800@www.itsmyclub.com.au
SUMMARY:Berry Cricket Club Raffle
DESCRIPTION:
URL:https://www.itsmyclub.com.au/event/berry-cricket-club-raffle/2026-05-30/
CATEGORIES:Berry Bowling Club
END:VEVENT
END:VCALENDAR